BEGIN:VCALENDAR
VERSION:2.0
PRODID:-//Tukios.com/
BEGIN:VEVENT
UID:91ee244f-18fc-4d38-b0bb-740923420ca2@www.habingfamilyfuneralhome.com
DTSTAMP:20260422T232918Z
DTSTART:20260506T200000Z
DTEND:20260506T210000Z
SUMMARY:Graveside Service
DESCRIPTION:
URL:https://www.habingfamilyfuneralhome.com/obituaries/joseph-duran
LOCATION: 1000 First Street  Gilroy CA 95020
GEO:37.0127842;-121.5892403
END:VEVENT
END:VCALENDAR