BEGIN:VCALENDAR
VERSION:2.0
PRODID:-//Tukios.com/
BEGIN:VEVENT
UID:04cfbebc-9834-4192-8d43-859f3b624c3d@www.habingfamilyfuneralhome.com
DTSTAMP:20260422T233103Z
DTSTART:20260506T190000Z
DTEND:20260506T200000Z
SUMMARY:Funeral Service
DESCRIPTION:
URL:https://www.habingfamilyfuneralhome.com/obituaries/joseph-duran
LOCATION: 129 4th St  Gilroy CA 95020
GEO:37.0098123;-121.5717585
END:VEVENT
END:VCALENDAR