BEGIN:VCALENDAR
VERSION:2.0
PRODID:-//Tukios.com/
BEGIN:VEVENT
UID:010525c9-41c2-4aaf-8069-9b71707d1cf1@www.habingfamilyfuneralhome.com
DTSTAMP:20260422T233627Z
DTSTART:20260506T180000Z
DTEND:20260506T190000Z
SUMMARY:Visitation
DESCRIPTION:
URL:https://www.habingfamilyfuneralhome.com/obituaries/joseph-duran
LOCATION: 129 4th St  Gilroy CA 95020
GEO:37.0098123;-121.5717585
END:VEVENT
END:VCALENDAR