BEGIN:VCALENDAR
VERSION:2.0
PRODID:-//Tukios.com/
BEGIN:VEVENT
UID:c47eb9ac-a5a5-42f8-a26d-0e6f713ec867@www.habingfamilyfuneralhome.com
DTSTAMP:20260422T233328Z
DTSTART:20260506T020000Z
DTEND:20260506T030000Z
SUMMARY:Vigil
DESCRIPTION:
URL:https://www.habingfamilyfuneralhome.com/obituaries/joseph-duran
LOCATION: 129 4th St  Gilroy CA 95020
GEO:37.0098123;-121.5717585
END:VEVENT
END:VCALENDAR