BEGIN:VCALENDAR
VERSION:2.0
PRODID:-//Tukios.com/
BEGIN:VEVENT
UID:4e2771c5-bc69-468f-924a-f4eb054972f0@www.habingfamilyfuneralhome.com
DTSTAMP:20260422T233224Z
DTSTART:20260505T230000Z
DTEND:20260506T040000Z
SUMMARY:Visitation
DESCRIPTION:
URL:https://www.habingfamilyfuneralhome.com/obituaries/joseph-duran
LOCATION: 129 4th St  Gilroy CA 95020
GEO:37.0098123;-121.5717585
END:VEVENT
END:VCALENDAR