BEGIN:VCALENDAR
VERSION:2.0
PRODID:-//Tukios.com/
BEGIN:VEVENT
UID:be9b4eba-d2a2-44ea-aefb-d3c105c348ec@www.habingfamilyfuneralhome.com
DTSTAMP:20260424T002716Z
DTSTART:20260430T213000Z
DTEND:20260430T223000Z
SUMMARY:Graveside Service
DESCRIPTION:
URL:https://www.habingfamilyfuneralhome.com/obituaries/florentina-ines
LOCATION: 900 1st Street  Gilroy CA 95020
GEO:37.0124686;-121.5908874
END:VEVENT
END:VCALENDAR