BEGIN:VCALENDAR
VERSION:2.0
PRODID:-//Tukios.com/
BEGIN:VEVENT
UID:ae08082a-92d3-47fd-9d3b-5f5376a6680d@www.habingfamilyfuneralhome.com
DTSTAMP:20260424T003024Z
DTSTART:20260430T203000Z
DTEND:20260430T213000Z
SUMMARY:Mass
DESCRIPTION:
URL:https://www.habingfamilyfuneralhome.com/obituaries/florentina-ines
LOCATION: 11 1st Street  Gilroy CA 95020
GEO:37.0122734;-121.5882411
END:VEVENT
END:VCALENDAR