BEGIN:VCALENDAR
VERSION:2.0
PRODID:-//Tukios.com/
BEGIN:VEVENT
UID:525b187a-0781-430a-a8e4-32f1f632f3ff@www.habingfamilyfuneralhome.com
DTSTAMP:20260424T003033Z
DTSTART:20260430T180000Z
DTEND:20260430T203000Z
SUMMARY:Visitation
DESCRIPTION:
URL:https://www.habingfamilyfuneralhome.com/obituaries/florentina-ines
LOCATION: 129 4th St  Gilroy CA 95020
GEO:37.0098123;-121.5717585
END:VEVENT
END:VCALENDAR